BEGIN:VCALENDAR
VERSION:2.0
PRODID:-//eventon.com NONSGML v1.0//EN
BEGIN:VEVENT
UID:69e9265adfb28
DTSTAMP:20260422T214946
DTSTART:20210319T220000Z
DTEND:20210321T215900Z
LOCATION:Ins (Sporthalle Rötschenmatte) 
SUMMARY:27. Seel. Unihockeyturnier Jugend
DESCRIPTION: ABGESAGT\,  wird evt. verschobenJugend Unihockey Turnier von Klein bis Gross. Bis zum Jahrgang 2005 hat es verschiedene Kategorien für Knaben und Mädchen.Richtet sich an Jugendvereine im Seeland\,  welche an einem fairen und interessanten Turnier für Gross und Klein teilnehmen möchten.In Absprache mit der Wettkampfleitung und dem Organisationskomitee können Gastriegen zum[..]
END:VEVENT
END:VCALENDAR